BEGIN:VCALENDAR
VERSION:2.0
PRODID:-//happy eats healthy - ECPv6.15.20//NONSGML v1.0//EN
CALSCALE:GREGORIAN
METHOD:PUBLISH
X-WR-CALNAME:happy eats healthy
X-ORIGINAL-URL:https://happyeatshealthy.com
X-WR-CALDESC:Events for happy eats healthy
REFRESH-INTERVAL;VALUE=DURATION:PT1H
X-Robots-Tag:noindex
X-PUBLISHED-TTL:PT1H
BEGIN:VTIMEZONE
TZID:UTC
BEGIN:STANDARD
TZOFFSETFROM:+0000
TZOFFSETTO:+0000
TZNAME:UTC
DTSTART:20170101T000000
END:STANDARD
END:VTIMEZONE
BEGIN:VEVENT
DTSTART;TZID=UTC:20180506T100000
DTEND;TZID=UTC:20180506T120000
DTSTAMP:20260425T211657
CREATED:20180406T001525Z
LAST-MODIFIED:20180406T001525Z
UID:2901-1525600800-1525608000@happyeatshealthy.com
SUMMARY:Fermentation 101
DESCRIPTION:Fermentation is all the rage and it’s time you jump on the bandwagon through this hands-on class. Fermented foods are not only a great way to preserve our seasonal bounties but to also increase our immune system\, heal our digestion and balance our body.We’ll take the ‘scary’ out of fermenting together. At the end of this class you will leave feeling confident and inspired to make fermented foods a valuable and everyday part of your lifestyle along with your jar of kraut and pickles.Recipes:\n\nMason jar sauerkraut\nVeggie pickles\n\n\nPayment through Eventbrite reserves your spot. Directions and information will be sent upon payment.\nClass is on the 4th floor of a walkup; no elevator is available. Happy Eats Healthy events are based on whole\, clean food with a focus on anti-inflammatory ingredients.
URL:https://happyeatshealthy.com/event/fermentation-101/
LOCATION:Noble Square\, West Town Chicago\, IL\, West Town Chicago\, IL\, US
ATTACH;FMTTYPE=image/jpeg:https://happyeatshealthy.com/wp-content/uploads/2018/04/2901_image_original.jpg
END:VEVENT
END:VCALENDAR