BEGIN:VCALENDAR
VERSION:2.0
PRODID:-//happy eats healthy - ECPv6.15.20//NONSGML v1.0//EN
CALSCALE:GREGORIAN
METHOD:PUBLISH
X-WR-CALNAME:happy eats healthy
X-ORIGINAL-URL:https://happyeatshealthy.com
X-WR-CALDESC:Events for happy eats healthy
REFRESH-INTERVAL;VALUE=DURATION:PT1H
X-Robots-Tag:noindex
X-PUBLISHED-TTL:PT1H
BEGIN:VTIMEZONE
TZID:UTC
BEGIN:STANDARD
TZOFFSETFROM:+0000
TZOFFSETTO:+0000
TZNAME:UTC
DTSTART:20170101T000000
END:STANDARD
END:VTIMEZONE
BEGIN:VEVENT
DTSTART;TZID=UTC:20180715T093000
DTEND;TZID=UTC:20180715T123000
DTSTAMP:20260425T090444
CREATED:20180406T002221Z
LAST-MODIFIED:20180406T002221Z
UID:2957-1531647000-1531657800@happyeatshealthy.com
SUMMARY:Roofdeck Yoga + Brunch
DESCRIPTION:Rise and Dine! Join Katy Kelnhofer (of SprinkleCheer.com( on the rooftop for 60 minutes of invigorating yoga followed by a deliciously healthy brunch by Culinary Nutrition Expert Monique Costello. After yoga you can watch or join in on the cooking\, throw a game of bags\, mingle with others\, take in the panoramic view of the city or simply enjoy your BYOB bubbly in the lounge\nExpect fun dishes like Grilled Egg-Stuffed Peppers\, Cucumber Quinoa Salad with Lemon Gremolata and Rum Grilled Grapefruits. Really tasty GF\, vegetarian food.BYO: Booze\, Mat and Sunscreen.\nNote: class is held on the 4th floor of a walk up building with no elevator access. Location: West Town\, Chicago\, IL (address will be shared upon registration)Cost: $50Please arrive 15 minutes earlyHappy Eats Healthy events are based on whole\, clean food with a focus on anti-inflammatory ingredients.Payment through Eventbrite reserves your spot. Directions and information will be sent upon payment.
URL:https://happyeatshealthy.com/event/roofdeck-yoga-brunch/
LOCATION:West Town Chicago\, IL\, West Town Chicago\, IL\, US
ATTACH;FMTTYPE=image/jpeg:https://happyeatshealthy.com/wp-content/uploads/2018/04/2957_image_original.jpg
END:VEVENT
END:VCALENDAR