BEGIN:VCALENDAR
VERSION:2.0
PRODID:-//happy eats healthy - ECPv6.15.20//NONSGML v1.0//EN
CALSCALE:GREGORIAN
METHOD:PUBLISH
X-WR-CALNAME:happy eats healthy
X-ORIGINAL-URL:https://happyeatshealthy.com
X-WR-CALDESC:Events for happy eats healthy
REFRESH-INTERVAL;VALUE=DURATION:PT1H
X-Robots-Tag:noindex
X-PUBLISHED-TTL:PT1H
BEGIN:VTIMEZONE
TZID:UTC
BEGIN:STANDARD
TZOFFSETFROM:+0000
TZOFFSETTO:+0000
TZNAME:UTC
DTSTART:20170101T000000
END:STANDARD
END:VTIMEZONE
BEGIN:VEVENT
DTSTART;TZID=UTC:20180929T110000
DTEND;TZID=UTC:20180929T123000
DTSTAMP:20260425T073306
CREATED:20180905T200255Z
LAST-MODIFIED:20180905T202149Z
UID:3188-1538218800-1538224200@happyeatshealthy.com
SUMMARY:Master Class: Kick the Sugar Habit!
DESCRIPTION:Are you constantly craving sweets? Perhaps it’s because refined sugar is 8x’s more addictive than cocaine – 8x! Sugar causes weakened immune system\, tooth decay\, constipation\, fatty liver\, hormone imbalances\, depression\, anxiety\, loss of sleep and weight gain… basically it upsets your whole body chemistry. And eating even a small amount creates a desire for more! \nLearn how to stop the sugar cycle with Health Strategist Monique Costello.\nIn this workshop we will… \n*Learn about the perils of sugar\n*Understand the risks of artificial sweeteners\n*Calculate your individual sugar consumption\n*Find out about natural sugar replacements\n*Learn how to gain control by stabilizing your blood sugar \nKick the Sugar Habit!\nSaturday Sep 29\n11am-12:30pm \n\nregular: $20\n\n\nmember: $16 \nREGISTER HERE 
URL:https://happyeatshealthy.com/event/master-class-kick-the-sugar-habit/
LOCATION:Moksha Yoga\, 2528 W Armitage\, Chicago\, 60647\, United States
END:VEVENT
END:VCALENDAR