BEGIN:VCALENDAR
VERSION:2.0
PRODID:-//happy eats healthy - ECPv6.15.20//NONSGML v1.0//EN
CALSCALE:GREGORIAN
METHOD:PUBLISH
X-WR-CALNAME:happy eats healthy
X-ORIGINAL-URL:https://happyeatshealthy.com
X-WR-CALDESC:Events for happy eats healthy
REFRESH-INTERVAL;VALUE=DURATION:PT1H
X-Robots-Tag:noindex
X-PUBLISHED-TTL:PT1H
BEGIN:VTIMEZONE
TZID:UTC
BEGIN:STANDARD
TZOFFSETFROM:+0000
TZOFFSETTO:+0000
TZNAME:UTC
DTSTART:20180101T000000
END:STANDARD
END:VTIMEZONE
BEGIN:VEVENT
DTSTART;TZID=UTC:20191126T130000
DTEND;TZID=UTC:20191126T200000
DTSTAMP:20260423T203939
CREATED:20191003T012454Z
LAST-MODIFIED:20191018T015915Z
UID:4559-1574773200-1574798400@happyeatshealthy.com
SUMMARY:Healthy Product Spotlight: Open House
DESCRIPTION:NEW DATE: Tuesday\, November 26 \nOne question I hear over and over again is ‘which one should I buy’? Whether it’s a magnesium pill\, brand of maple syrup or which face lotion\, it’s super confusing to know which brand you can trust\, which ingredients should we be avoiding and what one is going to work best for me and you? \nI’m a big fan of sampling before buying. In our weekly newsletter we share one product that we love for one reason or another\, but that still means you have to trust that YOU are going to like it. \nNow we’re going to take this a step further and host a quarterly open house that will allow you to test out some of our favorite products along with us. We’ll have a seasonal treat or two cooking up from our Recipe section and you’ll get to mingle with others in our tribe. We’ve even extended the hours so you can come during mid day or after work- whatever works best with your schedule! \nThere is no cost to you\, we just ask that you RSVP to Monique so we have some idea of how many to plan for and when to expect you. Looking forward to seeing you! \nLocation: West Town\, Chicago
URL:https://happyeatshealthy.com/event/healthy-product-spotlight-open-house/
END:VEVENT
END:VCALENDAR