BEGIN:VCALENDAR
VERSION:2.0
PRODID:-//happy eats healthy - ECPv6.15.20//NONSGML v1.0//EN
CALSCALE:GREGORIAN
METHOD:PUBLISH
X-WR-CALNAME:happy eats healthy
X-ORIGINAL-URL:https://happyeatshealthy.com
X-WR-CALDESC:Events for happy eats healthy
REFRESH-INTERVAL;VALUE=DURATION:PT1H
X-Robots-Tag:noindex
X-PUBLISHED-TTL:PT1H
BEGIN:VTIMEZONE
TZID:UTC
BEGIN:STANDARD
TZOFFSETFROM:+0000
TZOFFSETTO:+0000
TZNAME:UTC
DTSTART:20190101T000000
END:STANDARD
END:VTIMEZONE
BEGIN:VEVENT
DTSTART;TZID=UTC:20200728T173000
DTEND;TZID=UTC:20200728T193000
DTSTAMP:20260423T053711
CREATED:20200717T080858Z
LAST-MODIFIED:20200717T081036Z
UID:5580-1595957400-1595964600@happyeatshealthy.com
SUMMARY:Taco Tuesday: Virtual Yoga and Dinner
DESCRIPTION:Join us for a Taco Tuesday evening of yoga & dinner! \nWe will begin with a one hour gentle yoga practice guided by Jennifer. A practice to release any stress from the day physically or mentally and drop into a place of peace and calm within. We will do physical movements & stretching to open the body\, cultivate a breath practice to draw the mind present\, and gently stimulate the digestive system to prepare for our meal. All levels welcome! \nAfter yoga we nourish!  Wellness chef Monique will join you in the kitchen as we make dinner together. You’ll receive the recipe & shopping list  (with substitution options) ahead of time for a quick & simple dish that’s great for the body. We will have tacos of course! Monique always dishes insider kitchen tips that will help you get the most out of your meals. You don’t have to be a professional chef to make healthy food a reality in your own kitchen. Do your body and health a favor and celebrate Taco Tuesday by joining us for virtual Yoga & Dinner! \nhttps://www.tinydanceryogi.com/event-details/taco-tuesday-yoga-dinner
URL:https://happyeatshealthy.com/event/taco-tuesday-virtual-yoga-and-dinner/
END:VEVENT
END:VCALENDAR