BEGIN:VCALENDAR
VERSION:2.0
PRODID:-//happy eats healthy - ECPv6.15.20//NONSGML v1.0//EN
CALSCALE:GREGORIAN
METHOD:PUBLISH
X-ORIGINAL-URL:https://happyeatshealthy.com
X-WR-CALDESC:Events for happy eats healthy
REFRESH-INTERVAL;VALUE=DURATION:PT1H
X-Robots-Tag:noindex
X-PUBLISHED-TTL:PT1H
BEGIN:VTIMEZONE
TZID:UTC
BEGIN:STANDARD
TZOFFSETFROM:+0000
TZOFFSETTO:+0000
TZNAME:UTC
DTSTART:20200101T000000
END:STANDARD
END:VTIMEZONE
BEGIN:VEVENT
DTSTART;TZID=UTC:20210227T130000
DTEND;TZID=UTC:20210227T150000
DTSTAMP:20260422T151344
CREATED:20201222T023636Z
LAST-MODIFIED:20210128T222337Z
UID:5972-1614430800-1614438000@happyeatshealthy.com
SUMMARY:Fermentation 101 (virtual)
DESCRIPTION:Fermentation is all the rage and it’s time you jump on the bandwagon through this virtual\, hands-on class. \nFermented foods are not only a great way to preserve our seasonal bounties but to also increase our immune system\, heal our digestion and balance our body. \nWe’ll take the ‘scary’ out of fermenting together. At the end of this class you will ‘leave’ feeling confident and inspired to make fermented foods a valuable and everyday part of your lifestyle along with your jar of kraut and pickles. \nRecipes: \n\nMason jar sauerkraut\nVeggie pickles\n\nPayment through Eventbrite reserves your spot. Zoom link\, recipes and utensil list sent upon payment. \nHappy Eats Healthy events are based on whole\, clean food with a focus on anti-inflammatory ingredients. \n  \n 
URL:https://happyeatshealthy.com/event/fermentation-101-virtual/
END:VEVENT
END:VCALENDAR