BEGIN:VCALENDAR
VERSION:2.0
PRODID:-//happy eats healthy - ECPv6.15.20//NONSGML v1.0//EN
CALSCALE:GREGORIAN
METHOD:PUBLISH
X-WR-CALNAME:happy eats healthy
X-ORIGINAL-URL:https://happyeatshealthy.com
X-WR-CALDESC:Events for happy eats healthy
REFRESH-INTERVAL;VALUE=DURATION:PT1H
X-Robots-Tag:noindex
X-PUBLISHED-TTL:PT1H
BEGIN:VTIMEZONE
TZID:UTC
BEGIN:STANDARD
TZOFFSETFROM:+0000
TZOFFSETTO:+0000
TZNAME:UTC
DTSTART:20200101T000000
END:STANDARD
END:VTIMEZONE
BEGIN:VEVENT
DTSTART;TZID=UTC:20210306T130000
DTEND;TZID=UTC:20210306T150000
DTSTAMP:20260422T151324
CREATED:20201222T025123Z
LAST-MODIFIED:20210208T215048Z
UID:5974-1615035600-1615042800@happyeatshealthy.com
SUMMARY:Gluten Free Crunches\, Crumbles and Crisps (Virtual cooking class)
DESCRIPTION:Gluten free doesn’t mean you have to give up the CRUNCH!  Whether your new to a gluten free diet or just need some inspiration for how to change it up\, this is the gluten free virtual cooking class for you. \nWe’ll focus on all things that crunch\, crumble or crisp – all the things that most people who go gluten free miss the most! \n\nHomemade crackers and a tortilla chip to end them all\nCrumbles (that could double as a little cookie)\nCrisps that satisfy the sweet tooth\n\nLearn how to change up the flavors\, how to use your oven or dehydrator\, and how best to store your goods  in this virtual cooking class. \nYou’ll receive the recipes upon registration.
URL:https://happyeatshealthy.com/event/gluten-free-crunches-crumbles-and-crisps-virtual-cooking-class/
END:VEVENT
END:VCALENDAR