BEGIN:VCALENDAR
VERSION:2.0
PRODID:-//happy eats healthy - ECPv6.15.20//NONSGML v1.0//EN
CALSCALE:GREGORIAN
METHOD:PUBLISH
X-ORIGINAL-URL:https://happyeatshealthy.com
X-WR-CALDESC:Events for happy eats healthy
REFRESH-INTERVAL;VALUE=DURATION:PT1H
X-Robots-Tag:noindex
X-PUBLISHED-TTL:PT1H
BEGIN:VTIMEZONE
TZID:UTC
BEGIN:STANDARD
TZOFFSETFROM:+0000
TZOFFSETTO:+0000
TZNAME:UTC
DTSTART:20200101T000000
END:STANDARD
END:VTIMEZONE
BEGIN:VEVENT
DTSTART;TZID=UTC:20210711T093000
DTEND;TZID=UTC:20210711T120000
DTSTAMP:20260421T233702
CREATED:20210527T232517Z
LAST-MODIFIED:20210527T233255Z
UID:6413-1625995800-1626004800@happyeatshealthy.com
SUMMARY:Foam Roller Stretch & Brunch on The Roof
DESCRIPTION:Rise and Dine! Join Monique on the rooftop (weather permitting) for 60 minutes of life-changing\, height-enhancing myofascial stretching on the roof\, lead by Stephanie Davis\, followed by a deliciously healthy brunch. \nAfter this muscle and tension Pilates-based stretch that strengthens\, lengthens and opens up your whole body\, you can watch or join in on the cooking\, throw a game of bags\, mingle with others\, take in the panoramic view of the city or simply enjoy your BYOB bubbly in the lounge. We supply the foam roller! \nThis year\, lunch will be be pre-plated or pre-packaged. Masks are required inside. \n~2 hrs Gluten and Dairy Free options\nBYO: Booze\, Mat and Sunscreen.\nNote: class is held on the 4th floor of a walk up building with no elevator access. \nLocation: West Town\, Chicago\, IL (address will be shared upon registration) \nCost: $50\nPlease arrive 10 minutes early\nHappy Eats Healthy events are based on whole\, clean food with a focus on anti-inflammatory ingredients. \nPayment through Universe reserves your spot. Directions and information will be sent upon payment. \nSpots are limited this year- grab your ticket today! \n  \n \n  \nhttps://www.universe.com/events/foam-roller-stretch-brunch-on-the-roof-tickets-NVZ5QJ
URL:https://happyeatshealthy.com/event/foam-roller-stretch-brunch-on-the-roof/
ATTACH;FMTTYPE=image/jpeg:https://happyeatshealthy.com/wp-content/uploads/2021/05/IMG_20180603_105535413-scaled.jpg
END:VEVENT
END:VCALENDAR