BEGIN:VCALENDAR
VERSION:2.0
PRODID:-//happy eats healthy - ECPv6.15.20//NONSGML v1.0//EN
CALSCALE:GREGORIAN
METHOD:PUBLISH
X-WR-CALNAME:happy eats healthy
X-ORIGINAL-URL:https://happyeatshealthy.com
X-WR-CALDESC:Events for happy eats healthy
REFRESH-INTERVAL;VALUE=DURATION:PT1H
X-Robots-Tag:noindex
X-PUBLISHED-TTL:PT1H
BEGIN:VTIMEZONE
TZID:UTC
BEGIN:STANDARD
TZOFFSETFROM:+0000
TZOFFSETTO:+0000
TZNAME:UTC
DTSTART:20200101T000000
END:STANDARD
END:VTIMEZONE
BEGIN:VEVENT
DTSTART;TZID=UTC:20210913T173000
DTEND;TZID=UTC:20210913T213000
DTSTAMP:20260421T201057
CREATED:20210701T215049Z
LAST-MODIFIED:20210701T215049Z
UID:6473-1631554200-1631568600@happyeatshealthy.com
SUMMARY:health and wellness coach – 15 week certification program
DESCRIPTION:Health and Wellness Coach certification program. \nNext program starts on September 13th!! \nEvery Monday and Wednesday evenings\, 5:30 – 9:10pm CT on Zoom. \nJoin me in this Health and Wellness Coaching Certificate Program through Soma Institute. It’s conducted fully online and can be taken by students anywhere in the world. \n\n\nToday\, more than ever\, health and wellness coaches are in demand. The industry is projected to grow to $7.85 billion by 2022. \n\n\nAt The Soma Institute\, our mission is to improve overall health\, wellness and happiness one health coach at a time.
URL:https://happyeatshealthy.com/event/health-and-wellness-coach-15-week-certification-program-2/
END:VEVENT
END:VCALENDAR