BEGIN:VCALENDAR
VERSION:2.0
PRODID:-//happy eats healthy - ECPv6.15.20//NONSGML v1.0//EN
CALSCALE:GREGORIAN
METHOD:PUBLISH
X-ORIGINAL-URL:https://happyeatshealthy.com
X-WR-CALDESC:Events for happy eats healthy
REFRESH-INTERVAL;VALUE=DURATION:PT1H
X-Robots-Tag:noindex
X-PUBLISHED-TTL:PT1H
BEGIN:VTIMEZONE
TZID:UTC
BEGIN:STANDARD
TZOFFSETFROM:+0000
TZOFFSETTO:+0000
TZNAME:UTC
DTSTART:20210101T000000
END:STANDARD
END:VTIMEZONE
BEGIN:VEVENT
DTSTART;TZID=UTC:20220105T173000
DTEND;TZID=UTC:20220105T211000
DTSTAMP:20260421T011719
CREATED:20210918T074831Z
LAST-MODIFIED:20210925T201733Z
UID:6620-1641403800-1641417000@happyeatshealthy.com
SUMMARY:Health and Wellness Coach - 15 week Certification Program
DESCRIPTION:Next program starts on January 5th!! \nEvery Monday and Wednesday evenings on Zoom. \nJoin me in this Health and Wellness Coaching Certificate Program through Soma Institute. It’s conducted fully online and can be taken by students anywhere in the world. \n\n\nToday\, more than ever\, health and wellness coaches are in demand. The industry is projected to grow to $7.85 billion by 2022. \n\n\nAt The Soma Institute\, our mission is to improve overall health\, wellness and happiness one health coach at a time. \n\n\nApply Now
URL:https://happyeatshealthy.com/event/health-and-wellness-coach-15-week-certification-program-3/
END:VEVENT
END:VCALENDAR