BEGIN:VCALENDAR
VERSION:2.0
PRODID:-//happy eats healthy - ECPv6.15.20//NONSGML v1.0//EN
CALSCALE:GREGORIAN
METHOD:PUBLISH
X-WR-CALNAME:happy eats healthy
X-ORIGINAL-URL:https://happyeatshealthy.com
X-WR-CALDESC:Events for happy eats healthy
REFRESH-INTERVAL;VALUE=DURATION:PT1H
X-Robots-Tag:noindex
X-PUBLISHED-TTL:PT1H
BEGIN:VTIMEZONE
TZID:UTC
BEGIN:STANDARD
TZOFFSETFROM:+0000
TZOFFSETTO:+0000
TZNAME:UTC
DTSTART:20210101T000000
END:STANDARD
END:VTIMEZONE
BEGIN:VEVENT
DTSTART;TZID=UTC:20220616T183000
DTEND;TZID=UTC:20220616T203000
DTSTAMP:20260420T152048
CREATED:20210514T020908Z
LAST-MODIFIED:20220430T031314Z
UID:6370-1655404200-1655411400@happyeatshealthy.com
SUMMARY:Evening Yoga\, Meditation and Kitchari
DESCRIPTION:Watch the sunset while doing yoga on a roof deck and noshing on a nourishing meal. \nQuiet the mind and calm the nerves with this deep relaxation\, stretch and healing evening. Join Jennifer Goodman and Monique on the rooftop (weather permitting) for 60 minutes of glorious Yin yoga and meditation followed by a deliciously healing kitchari meal during this Evening Yoga\, Meditation and Kitchari evening. \nAfter yoga we’ll mingle in lounge and watch the sun set on the panoramic view of the city. \nBYO: Mat\, towel\, water bottle and sunscreen. \nNote: class is held on the 4th floor of a walk up building with no elevator access. \nLocation: West Town\, Chicago\, IL (address will be shared upon registration) \n~2 hrs; all food allergies accepted; Please let Monique when you register if you have any food sensitivities to allow for proper planning.)Note: class is held on the 4th floor of a walk up building with no elevator access. \nLocation: West Town\, Chicago\, IL (address will be shared upon registration) \nCost: $50\nPlease arrive 10 minutes early\nHappy Eats Healthy events are based on whole\, clean food with a focus on anti-inflammatory ingredients. \nPayment through Universe reserves your spot. Directions and information will be sent upon payment. \nSpots are limited this year- grab your ticket today! \n  \nRegister via Universe or reach out to Monique to pay via Zelle\, Venmo or Paypal \nhttps://www.universe.com/events/evening-yoga-meditation-and-kitchari-tickets-CWQRN5
URL:https://happyeatshealthy.com/event/yoga-and-brunch-on-the-roof/
ATTACH;FMTTYPE=image/jpeg:https://happyeatshealthy.com/wp-content/uploads/2021/05/IMG_20190811_101927535-scaled.jpg
END:VEVENT
END:VCALENDAR