BEGIN:VCALENDAR
VERSION:2.0
PRODID:-//happy eats healthy - ECPv6.15.20//NONSGML v1.0//EN
CALSCALE:GREGORIAN
METHOD:PUBLISH
X-ORIGINAL-URL:https://happyeatshealthy.com
X-WR-CALDESC:Events for happy eats healthy
REFRESH-INTERVAL;VALUE=DURATION:PT1H
X-Robots-Tag:noindex
X-PUBLISHED-TTL:PT1H
BEGIN:VTIMEZONE
TZID:UTC
BEGIN:STANDARD
TZOFFSETFROM:+0000
TZOFFSETTO:+0000
TZNAME:UTC
DTSTART:20210101T000000
END:STANDARD
END:VTIMEZONE
BEGIN:VEVENT
DTSTART;TZID=UTC:20220908T180000
DTEND;TZID=UTC:20220908T190000
DTSTAMP:20260420T023353
CREATED:20220827T025104Z
LAST-MODIFIED:20220827T025420Z
UID:7160-1662660000-1662663600@happyeatshealthy.com
SUMMARY:Autumn-Inspired Cooking with Matilde Vicenzi
DESCRIPTION:Join me at Eataly Chicago for a cooking class that’s parts demonstration and part hands on. I’ll be working with the famous Matilde Vicenzi Biscotti and Amarettino. I don’t always with with cookies\, but when I do you know they are top of the line! \nAll the details are below; click over to Eatalys website to register: https://www.eataly.com/us_en/classes-and-events/chicago/autumn-inspired-cooking-with-matilde-vicenzi-2022-09-08-11592 \nFall in love with our special autumn cooking class with Matilde Vicenzi where you will learn to make a fall-inspired entréeChicago and dessert!  Join us for an hour of kitchen creativity as we crumble Matilde Vicenzi Cantuccini Almond Biscotti over a warm fall seared squash salad with arugula.  Then we will crush Matilde Vicenzi Amaretti Cookies to form the crust of a delightful no-bake ricotta cheesecake with an Amarettino & pistachio crust and caramel apple drizzle. \nGuests will be welcomed with a glass of prosecco (or N/A beverage) and then enjoy a sampling of the savory salad.  They will then assemble their own mini cheesecakes – one to taste during the class and one to take home! \nSince 1905\, the name Matilde Vicenzi has been synonymous with Italy’s fine pastry tradition\, its quality a point of reference in Italy and the world for anyone seeking delicious flavor and all the sweetness of authentic Italian pastry. \nThis delightful class will be taught by guest chef\, Monique Costello. Monique is a Wellness Chef\, Educator and Functional Medicine Coach. She’s been featured on The Food Network and can be found conducting healthy cooking demonstrations and wellness presentations at corporations and events throughout the United States. Monique proudly represents Matilde Vicenzi Italian pastries at Eataly Chicago through cooking classes and tasting demonstrations.
URL:https://happyeatshealthy.com/event/autumn-inspired-cooking-with-matilde-vicenzi/
ATTACH;FMTTYPE=image/jpeg:https://happyeatshealthy.com/wp-content/uploads/2022/08/Vicenzi-cheesecake-scaled.jpg
END:VEVENT
END:VCALENDAR