BEGIN:VCALENDAR
VERSION:2.0
PRODID:-//happy eats healthy - ECPv6.15.20//NONSGML v1.0//EN
CALSCALE:GREGORIAN
METHOD:PUBLISH
X-ORIGINAL-URL:https://happyeatshealthy.com
X-WR-CALDESC:Events for happy eats healthy
REFRESH-INTERVAL;VALUE=DURATION:PT1H
X-Robots-Tag:noindex
X-PUBLISHED-TTL:PT1H
BEGIN:VTIMEZONE
TZID:America/Chicago
BEGIN:DAYLIGHT
TZOFFSETFROM:-0600
TZOFFSETTO:-0500
TZNAME:CDT
DTSTART:20210314T080000
END:DAYLIGHT
BEGIN:STANDARD
TZOFFSETFROM:-0500
TZOFFSETTO:-0600
TZNAME:CST
DTSTART:20211107T070000
END:STANDARD
BEGIN:DAYLIGHT
TZOFFSETFROM:-0600
TZOFFSETTO:-0500
TZNAME:CDT
DTSTART:20220313T080000
END:DAYLIGHT
BEGIN:STANDARD
TZOFFSETFROM:-0500
TZOFFSETTO:-0600
TZNAME:CST
DTSTART:20221106T070000
END:STANDARD
BEGIN:DAYLIGHT
TZOFFSETFROM:-0600
TZOFFSETTO:-0500
TZNAME:CDT
DTSTART:20230312T080000
END:DAYLIGHT
BEGIN:STANDARD
TZOFFSETFROM:-0500
TZOFFSETTO:-0600
TZNAME:CST
DTSTART:20231105T070000
END:STANDARD
END:VTIMEZONE
BEGIN:VEVENT
DTSTART;TZID=America/Chicago:20220917T100000
DTEND;TZID=America/Chicago:20220917T120000
DTSTAMP:20260420T023359
CREATED:20220126T233248Z
LAST-MODIFIED:20220720T014139Z
UID:6840-1663408800-1663416000@happyeatshealthy.com
SUMMARY:Rooftop Yoga and Nourishing Brunch
DESCRIPTION:Rooftop Yoga and Interactive Nourishing Brunch\nSaturday\, November 17th @ 10am – noon CT \n\nQuiet the mind and calm the nerves with this glorious morning of yoga & brunch on the roof! Join Jennifer Goodman and Monique on the rooftop (weather permitting) for 60 minutes of glorious Yin yoga and meditation followed by a deliciously healing meal. After yoga we’ll mingle in lounge\, nosh and watch the panoramic view of the city.\n\n\n \n\n\n~2 hrs Gluten and Dairy Free options\n\n\nBYO: Mat\, towel and sunscreen. Bring a libations to enjoy with brunch.\n\n\nNote: class is held on the 4th floor of a walk up building with no elevator access. \n\n\n \n\n\nLocation: West Town\, Chicago\, IL (address will be shared upon registration)\n\n\nCost: $50\n\n\nPlease arrive 10 minutes early.\n\n\nHappy Eats Healthy events are based on whole\, clean food with a focus on anti-inflammatory ingredients.\n\n\n \n\n\nPayment through Universe reserves your spot. Directions and information will be sent upon payment.\n\n\nSpots are limited this year- grab your ticket today! \n\n 
URL:https://happyeatshealthy.com/event/virtual-yoga-and-brunch/
ATTACH;FMTTYPE=image/jpeg:https://happyeatshealthy.com/wp-content/uploads/2021/05/IMG_20190811_101927535-scaled.jpg
END:VEVENT
END:VCALENDAR