BEGIN:VCALENDAR
VERSION:2.0
PRODID:-//happy eats healthy - ECPv6.15.20//NONSGML v1.0//EN
CALSCALE:GREGORIAN
METHOD:PUBLISH
X-ORIGINAL-URL:https://happyeatshealthy.com
X-WR-CALDESC:Events for happy eats healthy
REFRESH-INTERVAL;VALUE=DURATION:PT1H
X-Robots-Tag:noindex
X-PUBLISHED-TTL:PT1H
BEGIN:VTIMEZONE
TZID:UTC
BEGIN:STANDARD
TZOFFSETFROM:+0000
TZOFFSETTO:+0000
TZNAME:UTC
DTSTART:20170101T000000
END:STANDARD
END:VTIMEZONE
BEGIN:VEVENT
DTSTART;TZID=UTC:20180713T190000
DTEND;TZID=UTC:20180713T220000
DTSTAMP:20260425T073448
CREATED:20180406T002039Z
LAST-MODIFIED:20180406T002039Z
UID:2934-1531508400-1531519200@happyeatshealthy.com
SUMMARY:Rooftop Dinner: A Garden to Table Pop-Up
DESCRIPTION:Finally\, an underground (pop-up) dinner that is totally healthy and stunningly delicious! Vegan? Vegetarian? Gluten Free?  I’ve got you covered!\nIndulge your senses with a garden to table dinner in a beautiful urban rooftop setting. Enjoy eight courses of fresh\, seasonal cuisine while gazing on the lights of downtown Chicago – amid the beautiful garden where much of your meal was grown!Dishes will change with the seasons\, but past favorites have included such delights as Balsamic Lentils over Grilled Squash\, Smoked Trout over crisp radish\, Ginger Orange Soup with Basil Pistou\, Grilled Fig Salad with Apple Curry Dressing\, and Moroccan Mushroom and Turkey Meatballs over Quinoa with a lovely\, piquant Chimichurri. Desserts like Salted Pistachio Bark and Grilled Banana Bread Pudding will round out your meal. Bring a bottle of your favorite wine or other beverage to complement your meal.I am a Food Network featured chef and a Culinary Nutrition Expert. I create dishes that are stunning in flavor yet deceptively clean. Your taste buds will experience a decadent feast\, while your body gets a healthy treat! \nAll food allergies accommodated with proper notice. BYOB\nLocation: West Town\, Chicago\, IL; address will be shared upon registration.\nNote: class is held on the 4th floor of a walk up building with no elevator access. In case of inclement weather dinner will be served indoors in the dining room\, which also has a lovely view. 
URL:https://happyeatshealthy.com/event/rooftop-dinner-a-garden-to-table-pop-up-2/
LOCATION:West Town Chicago\, IL\, West Town Chicago\, IL\, US
ATTACH;FMTTYPE=image/jpeg:https://happyeatshealthy.com/wp-content/uploads/2018/04/2934_image_original.jpg
END:VEVENT
BEGIN:VEVENT
DTSTART;TZID=UTC:20180715T093000
DTEND;TZID=UTC:20180715T123000
DTSTAMP:20260425T073448
CREATED:20180406T002221Z
LAST-MODIFIED:20180406T002221Z
UID:2957-1531647000-1531657800@happyeatshealthy.com
SUMMARY:Roofdeck Yoga + Brunch
DESCRIPTION:Rise and Dine! Join Katy Kelnhofer (of SprinkleCheer.com( on the rooftop for 60 minutes of invigorating yoga followed by a deliciously healthy brunch by Culinary Nutrition Expert Monique Costello. After yoga you can watch or join in on the cooking\, throw a game of bags\, mingle with others\, take in the panoramic view of the city or simply enjoy your BYOB bubbly in the lounge\nExpect fun dishes like Grilled Egg-Stuffed Peppers\, Cucumber Quinoa Salad with Lemon Gremolata and Rum Grilled Grapefruits. Really tasty GF\, vegetarian food.BYO: Booze\, Mat and Sunscreen.\nNote: class is held on the 4th floor of a walk up building with no elevator access. Location: West Town\, Chicago\, IL (address will be shared upon registration)Cost: $50Please arrive 15 minutes earlyHappy Eats Healthy events are based on whole\, clean food with a focus on anti-inflammatory ingredients.Payment through Eventbrite reserves your spot. Directions and information will be sent upon payment.
URL:https://happyeatshealthy.com/event/roofdeck-yoga-brunch/
LOCATION:West Town Chicago\, IL\, West Town Chicago\, IL\, US
ATTACH;FMTTYPE=image/jpeg:https://happyeatshealthy.com/wp-content/uploads/2018/04/2957_image_original.jpg
END:VEVENT
BEGIN:VEVENT
DTSTART;TZID=UTC:20180719T180000
DTEND;TZID=UTC:20180719T210000
DTSTAMP:20260425T073448
CREATED:20180406T203942Z
LAST-MODIFIED:20180406T203942Z
UID:2992-1532023200-1532034000@happyeatshealthy.com
SUMMARY:Transformer Cooking: Grilled Soups\, Sauces and Salads
DESCRIPTION:Struggling with boredom in your dishes? Want to do something cooler than bbq chicken at your next party? This is the class for you! Having a couple of easy\, meat-free grilling options is great… but these also transform from salad\, to sauces to soups … it will change how you grill forever AND add an air of sophistication to all your parties!\nIn this class you will learn to take your dishes from bland to exciting! And we do it all on the grill in a beautiful urban rooftop with an incredible view of the downtown Chicago skyline! \nPlus\, it’s all gluten\, dairy and meat free too!\nThis class consistently sells out – book your seat todayMenu based on seasonal availability\, but look for the likes of these scrumptious dishes:Grilled Cabbage with Creamy Green Curry Dressing and Coconut SoupGrilled Avocado Poblano Cream\, Corn Chowder and SaladGrilled Romesco Sauce and Buddha Bowl\nAs a Food Network featured chef and Culinary Nutrition Expert\, I believe that food can tantalize the senses\, and taste extrodinairy while still being healthy. I specialize in creating recipes that are based on whole\, clean food with a focus on anti-inflammatory ingredients.\nMost allergies accomodated with proper notice.Location: West Town\, Chicago\, IL (address will be shared upon registration)\nNote: this is a 4th floor walk up; non-elevator building.  *Minimum of 4 guests is needed to run this class.
URL:https://happyeatshealthy.com/event/transformer-cooking-grilled-soups-sauces-and-salads/
LOCATION:Noble Square\, Chicago\, IL\, Chicago\, IL\, US
ATTACH;FMTTYPE=image/jpeg:https://happyeatshealthy.com/wp-content/uploads/2018/04/2992_image_original.jpg
END:VEVENT
BEGIN:VEVENT
DTSTART;TZID=UTC:20180728T190000
DTEND;TZID=UTC:20180728T220000
DTSTAMP:20260425T073448
CREATED:20180406T002049Z
LAST-MODIFIED:20180406T002049Z
UID:2937-1532804400-1532815200@happyeatshealthy.com
SUMMARY:Rooftop Dinner: A Garden to Table Pop-Up
DESCRIPTION:Finally\, an underground (pop-up) dinner that is totally healthy and stunningly delicious! Vegan? Vegetarian? Gluten Free?  I’ve got you covered!\nIndulge your senses with a garden to table dinner in a beautiful urban rooftop setting. Enjoy eight courses of fresh\, seasonal cuisine while gazing on the lights of downtown Chicago – amid the beautiful garden where much of your meal was grown!Dishes will change with the seasons\, but past favorites have included such delights as Balsamic Lentils over Grilled Squash\, Smoked Trout over crisp radish\, Ginger Orange Soup with Basil Pistou\, Grilled Fig Salad with Apple Curry Dressing\, and Moroccan Mushroom and Turkey Meatballs over Quinoa with a lovely\, piquant Chimichurri. Desserts like Salted Pistachio Bark and Grilled Banana Bread Pudding will round out your meal. Bring a bottle of your favorite wine or other beverage to complement your meal.I am a Food Network featured chef and a Culinary Nutrition Expert. I create dishes that are stunning in flavor yet deceptively clean. Your taste buds will experience a decadent feast\, while your body gets a healthy treat! \nAll food allergies accommodated with proper notice. BYOB\nLocation: West Town\, Chicago\, IL; address will be shared upon registration.\nNote: class is held on the 4th floor of a walk up building with no elevator access. In case of inclement weather dinner will be served indoors in the dining room\, which also has a lovely view. 
URL:https://happyeatshealthy.com/event/rooftop-dinner-a-garden-to-table-pop-up-3/
LOCATION:West Town Chicago\, IL\, West Town Chicago\, IL\, US
ATTACH;FMTTYPE=image/jpeg:https://happyeatshealthy.com/wp-content/uploads/2018/04/2937_image_original.jpg
END:VEVENT
END:VCALENDAR