BEGIN:VCALENDAR
VERSION:2.0
PRODID:-//happy eats healthy - ECPv6.15.20//NONSGML v1.0//EN
CALSCALE:GREGORIAN
METHOD:PUBLISH
X-WR-CALNAME:happy eats healthy
X-ORIGINAL-URL:https://happyeatshealthy.com
X-WR-CALDESC:Events for happy eats healthy
REFRESH-INTERVAL;VALUE=DURATION:PT1H
X-Robots-Tag:noindex
X-PUBLISHED-TTL:PT1H
BEGIN:VTIMEZONE
TZID:UTC
BEGIN:STANDARD
TZOFFSETFROM:+0000
TZOFFSETTO:+0000
TZNAME:UTC
DTSTART:20180101T000000
END:STANDARD
END:VTIMEZONE
BEGIN:VEVENT
DTSTART;TZID=UTC:20190406T090000
DTEND;TZID=UTC:20190406T180000
DTSTAMP:20260424T070014
CREATED:20190129T233859Z
LAST-MODIFIED:20190129T233859Z
UID:3735-1554541200-1554573600@happyeatshealthy.com
SUMMARY:Culinary Nutrition Fundamentals
DESCRIPTION:See course write up and register at Happy Eats Healthy Culinary Nutrition Fundamentals Page
URL:https://happyeatshealthy.com/event/culinary-nutrition-fundamentals-3/
END:VEVENT
BEGIN:VEVENT
DTSTART;TZID=UTC:20190413T080000
DTEND;TZID=UTC:20190413T170000
DTSTAMP:20260424T070014
CREATED:20190129T234017Z
LAST-MODIFIED:20190129T234017Z
UID:3737-1555142400-1555174800@happyeatshealthy.com
SUMMARY:Culinary Nutrition Fundamentals
DESCRIPTION:See course write up and register at Happy Eats Healthy Culinary Nutrition Fundamentals Page
URL:https://happyeatshealthy.com/event/culinary-nutrition-fundamentals-4/
END:VEVENT
BEGIN:VEVENT
DTSTART;VALUE=DATE:20190428
DTEND;VALUE=DATE:20190429
DTSTAMP:20260424T070014
CREATED:20190428T072948Z
LAST-MODIFIED:20190428T072948Z
UID:4008-1556409600-1556495999@happyeatshealthy.com
SUMMARY:Private Cooking Class
DESCRIPTION:
URL:https://happyeatshealthy.com/event/private-cooking-class/
END:VEVENT
BEGIN:VEVENT
DTSTART;VALUE=DATE:20190428
DTEND;VALUE=DATE:20190429
DTSTAMP:20260424T070014
CREATED:20190428T073050Z
LAST-MODIFIED:20190428T073050Z
UID:4010-1556409600-1556495999@happyeatshealthy.com
SUMMARY:Private Cooking Class
DESCRIPTION:
URL:https://happyeatshealthy.com/event/private-cooking-class-2/
END:VEVENT
END:VCALENDAR