BEGIN:VCALENDAR
VERSION:2.0
PRODID:-//happy eats healthy - ECPv6.15.20//NONSGML v1.0//EN
CALSCALE:GREGORIAN
METHOD:PUBLISH
X-WR-CALNAME:happy eats healthy
X-ORIGINAL-URL:https://happyeatshealthy.com
X-WR-CALDESC:Events for happy eats healthy
REFRESH-INTERVAL;VALUE=DURATION:PT1H
X-Robots-Tag:noindex
X-PUBLISHED-TTL:PT1H
BEGIN:VTIMEZONE
TZID:UTC
BEGIN:STANDARD
TZOFFSETFROM:+0000
TZOFFSETTO:+0000
TZNAME:UTC
DTSTART:20180101T000000
END:STANDARD
END:VTIMEZONE
BEGIN:VEVENT
DTSTART;VALUE=DATE:20190607
DTEND;VALUE=DATE:20190608
DTSTAMP:20260424T040804
CREATED:20190428T072731Z
LAST-MODIFIED:20190428T072731Z
UID:4006-1559865600-1559951999@happyeatshealthy.com
SUMMARY:Private Roof Event
DESCRIPTION:Private Rooftop dinner
URL:https://happyeatshealthy.com/event/private-roof-event-2/
END:VEVENT
BEGIN:VEVENT
DTSTART;TZID=UTC:20190614T183000
DTEND;TZID=UTC:20190614T213000
DTSTAMP:20260424T040804
CREATED:20190504T090602Z
LAST-MODIFIED:20190504T090602Z
UID:4039-1560537000-1560547800@happyeatshealthy.com
SUMMARY:Garden to Table Rooftop Dinner
DESCRIPTION:Finally\, an underground (pop-up) dinner that is totally healthy and stunningly delicious! Vegan? Vegetarian? Gluten Free?  I’ve got you covered! \n  \nIndulge your senses with a garden to table dinner in a beautiful urban rooftop setting. Enjoy eight courses of fresh\, seasonal cuisine while gazing on the lights of downtown Chicago – amid the beautiful garden where much of your meal was grown! \nDishes will change with the seasons\, but past favorites have included such delights as Balsamic Lentils over Grilled Squash\, Smoked Trout over crisp radish\, Ginger Orange Soup with Basil Pistou\, Grilled Fig Salad with Apple Curry Dressing\, and Moroccan Mushroom and Broccoli Meatballs over Quinoa with a lovely\, piquant Chimichurri. Desserts like Salted Pistachio Bark and Grilled Banana Bread Pudding will round out your meal. Bring a bottle of your favorite wine or other beverage to complement your meal. \nI am a Food Network featured chef and a Culinary Nutrition Expert. I create dishes that are stunning in flavor yet deceptively clean. Your taste buds will experience a decadent feast\, while your body gets a healthy treat! \nAll food allergies accommodated with proper notice. \nBYOB \nLocation: West Town\, Chicago\, IL; address will be shared upon registration. \nPlease note: class is held on the 4th floor of a walk up building with no elevator access. In case of inclement weather dinner will be served indoors in the dining room\, which also has a lovely view. 
URL:https://happyeatshealthy.com/event/garden-to-table-rooftop-dinner/
LOCATION:Noble Square\, Chicago\, IL\, Chicago\, IL\, US
ATTACH;FMTTYPE=image/jpeg:https://happyeatshealthy.com/wp-content/uploads/2019/05/IMG_0826.jpg
END:VEVENT
BEGIN:VEVENT
DTSTART;VALUE=DATE:20190622
DTEND;VALUE=DATE:20190623
DTSTAMP:20260424T040804
CREATED:20190428T072527Z
LAST-MODIFIED:20190428T072527Z
UID:4004-1561161600-1561247999@happyeatshealthy.com
SUMMARY:Private Roof Event
DESCRIPTION:Private Roofdeck event
URL:https://happyeatshealthy.com/event/private-roof-event/
END:VEVENT
BEGIN:VEVENT
DTSTART;TZID=UTC:20190623T100000
DTEND;TZID=UTC:20190623T123000
DTSTAMP:20260424T040804
CREATED:20190419T040712Z
LAST-MODIFIED:20190419T040712Z
UID:3950-1561284000-1561293000@happyeatshealthy.com
SUMMARY:Sunday Funday: Roofdeck Yoga and Brunch!
DESCRIPTION:Sunday Funday! Join Katy Kelnhofer of SprinkleCheer.com on the rooftop for 60 minutes of invigorating yoga followed by a deliciously healthy brunch by Culinary Nutrition Chef Monique Costello\, founder of Happy Eats Healthy. \nAfter yoga you can watch or join in on the cooking\, throw a game of bags\, mingle with others\, take in the panoramic view of the city or simply enjoy your BYOB bubbly in the lounge \nExpect fun dishes like Grilled Egg-Stuffed Peppers\, Cucumber Quinoa Salad\, Gluten-Free Bread\, Coconut Cream Stuffed Strawberries. Really tasty GF\, vegetarian food. \nNote: class is held on the 4th floor of a walk up building with no elevator access.\nLocation: West Town\, Chicago\, IL (address will be shared upon registration)\nCost: $52 \nBYO: mat\, sunscreen and bubbles \nRegister at Eventbrite to hold your spot! \nPlease arrive 10 minutes early\nHappy Eats Healthy events are based on whole\, clean food with a focus on anti-inflammatory ingredients\, but do let us know if you have a food allergy we should be aware of. \nPayment through Eventbrite reserves your spot. Directions and information will be sent upon payment. \nSpots limited- save yours today! \n 
URL:https://happyeatshealthy.com/event/sunday-funday-roofdeck-yoga-and-brunch/
LOCATION:West Town\, Chicago\, IL\, Chicago\, IL\, US
END:VEVENT
BEGIN:VEVENT
DTSTART;TZID=UTC:20190629T133000
DTEND;TZID=UTC:20190629T150000
DTSTAMP:20260424T040804
CREATED:20190428T071401Z
LAST-MODIFIED:20190504T073233Z
UID:3997-1561815000-1561820400@happyeatshealthy.com
SUMMARY:Chicago Botanic Garden: Chef Demo Presentation
DESCRIPTION:Join me  at the Chicago Botanic Garden for a Chef Demo Presentation!! \nLearn to cook with garden-fresh ingredients all summer long at the Garden Chef Series. Noted chefs prepare recipes in the Regenstein Fruit & Vegetable Garden’s open-air amphitheater. \nSeating is first-come\, first-served for these free demonstrations. Visitors will need to use sun protection and wear caps in this sunny location. No umbrellas\, please. \n2 Sessions: 1:30pm and 2:30pm \nhttps://www.chicagobotanic.org/chef
URL:https://happyeatshealthy.com/event/chicago-botanic-garden-chef-demo-presentation/
LOCATION:Chicago Botanic Garden\, 1000 Lake Cook Road\, Glencoe\, il\, 60022
END:VEVENT
END:VCALENDAR