BEGIN:VCALENDAR
VERSION:2.0
PRODID:-//happy eats healthy - ECPv6.15.20//NONSGML v1.0//EN
CALSCALE:GREGORIAN
METHOD:PUBLISH
X-ORIGINAL-URL:https://happyeatshealthy.com
X-WR-CALDESC:Events for happy eats healthy
REFRESH-INTERVAL;VALUE=DURATION:PT1H
X-Robots-Tag:noindex
X-PUBLISHED-TTL:PT1H
BEGIN:VTIMEZONE
TZID:UTC
BEGIN:STANDARD
TZOFFSETFROM:+0000
TZOFFSETTO:+0000
TZNAME:UTC
DTSTART:20180101T000000
END:STANDARD
END:VTIMEZONE
BEGIN:VEVENT
DTSTART;TZID=UTC:20190908T100000
DTEND;TZID=UTC:20190908T123000
DTSTAMP:20260424T010132
CREATED:20190417T214720Z
LAST-MODIFIED:20190419T035835Z
UID:3937-1567936800-1567945800@happyeatshealthy.com
SUMMARY:Postural Mat Pilates + Brunch on the Roof!
DESCRIPTION:Rise\, Stand Tall and Dine! Join Stephanie Davies\, owner of SD Rehab\, and Monique Costello\, founder of Happy Eats Health\, on the rooftop for 60 minutes of spine straightening\, body loving\, postural mat pilates followed by a deliciously healthy brunch. \nThough technically a beginner’s level class\, we will challenge each participant to a new level. Using various small equipment and Pilates mat exercises you will increase your overall flexibility\, learn where core strength comes from and achieve healthy postural alignment and strength. Not only will you look and feel better\, you will prevent the wear and tear of our busy lives \nAfter pilates you can watch or join in on the cooking\, throw a game of bags\, mingle with others\, take in the panoramic view of the city or simply enjoy your BYOB bubbly in the shaded lounge \nExpect fun dishes like Grilled Egg-Stuffed Peppers\, Cucumber Quinoa Salad with Lemon Gremolata and Rum Grilled Grapefruits. Think filling\, tasty GF\, vegetarian food. \n2019 Dates:\nSunday\, July 14: 9:30 am – 12:00 pm\nSunday\, September 8: 10 am – 1:00 pm \n  \nPayment through Eventbrite reserves your spot.  \n  \n2+ hrs Gluten and Dairy Free options \nBYO: Booze\, Mat and Sunscreen.\nNote: class is held on the 4th floor of a walk up building with no elevator access. \nLocation: West Town\, Chicago\, IL (address will be shared upon registration) \nCost: $50\nPlease arrive 15 minutes early\nHappy Eats Healthy events are based on whole\, clean food with a focus on anti-inflammatory ingredients. \nPayment through Eventbrite reserves your spot. Directions and information will be sent upon payment.
URL:https://happyeatshealthy.com/event/postural-mat-pilates-brunch-on-the-roof/
END:VEVENT
BEGIN:VEVENT
DTSTART;TZID=UTC:20190908T100000
DTEND;TZID=UTC:20190908T130000
DTSTAMP:20260424T010132
CREATED:20190820T005124Z
LAST-MODIFIED:20190820T005124Z
UID:4359-1567936800-1567947600@happyeatshealthy.com
SUMMARY:Postural Foam Roller Pilates + Brunch on the Roofdeck
DESCRIPTION:Rise\, Stand Tall and Dine! Join Stephanie Davies\, owner of SD Rehab\, and Monique Costello\, founder of Happy Eats Healthy\, on the rooftop for 60 minutes of spine straightening\, body loving\, postural mat pilates followed by a deliciously healthy brunch.\nThough technically a beginner’s level class\, we will challenge each participant to a new level. Using various small equipment and Pilates mat exercises you will increase your overall flexibility\, learn where core strength comes from and achieve healthy postural alignment and strength. Not only will you look and feel better\, you will prevent the wear and tear of our busy lives After pilates you can watch or join in on the cooking\, throw a game of bags\, mingle with others\, take in the panoramic view of the city or simply enjoy your BYOB bubbly in the shaded lounge\nExpect fun dishes like Grilled Egg-Stuffed Peppers\, Cucumber Quinoa Salad with Lemon Gremolata and Rum Grilled Grapefruits. Think filling\, tasty GF\, vegetarian food.\n2019 Dates: Sunday\, July 14: 9:30 am – 12:30 pmSunday\, September 8: 10 am – 12:30 pm \n2+ hrs Gluten and Dairy Free options\nBYO: Booze\, Mat and Sunscreen.Note: class is held on the 4th floor of a walk up building with no elevator access. Location: West Town\, Chicago\, IL (address will be shared upon registration)Cost: $50Please arrive 10 minutes earlyHappy Eats Healthy events are based on whole\, clean food with a focus on anti-inflammatory ingredients.Payment through Eventbrite reserves your spot. Directions and information will be sent upon payment.\n\n\nFor more than 20 years\, Stephanie has been treating orthopedic\, neurologic and cumulative trauma injuries. In addition to her Bachelors of Science in Occupational Therapy\, Stephanie is a STOTT® certified pilates instructor\, a Feldenkrais Practitioner® and a GYROTONIC® and GYROKINESIS® teacher. She is the owner of SD Rehab\, Inc.\, a community based physical rehabilitation and alternative fitness studio in the heart of Chicago. Stephanie has a strong passion for assisting individuals of all abilities and ages to attain vital lifestyles and a sense of well-being. As a community and professional educator she has developed several specialty programs for athletes and musicians. In addition\, Stephanie is always excited to expand her teachings and team up with the diverse community of holistic health practitioners.\n\nMonique Costello is an Certified Culinary Nutrition Expert\, Integrative Holistic Health Coach and a Gourmet Cook. After years of a debilitating break down of the body\, chronic back pain and unexplained symptoms like low energy\, restless sleep\, weight gain\, and dry skin\, Monique found relief in the very same element that fueled her passion\, food. A champion recipe developer once featured on The Food Network\, Monique now works as a health educator through corporate wellness programs and a one-on-one coaching. She teaches Soma Institute’s Health and Wellness certification program and healthy cooking classes at Kendall College along with hosting Clean Food Cleanse programs and Healthy Travel Retreats to help people recognize that food is medicine and it can heal you from the inside. Read more about Monique’s story at happyeatshealthy.com
URL:https://happyeatshealthy.com/event/postural-foam-roller-pilates-brunch-on-the-roofdeck-3/
LOCATION:Noble Square\, Chicago Ave and Elizabeth St\, Chicago\, IL 60642\, Chicago\, IL\, 60642\, US
ATTACH;FMTTYPE=image/jpeg:https://happyeatshealthy.com/wp-content/uploads/2019/08/4359_image_original.jpg
END:VEVENT
BEGIN:VEVENT
DTSTART;TZID=UTC:20190914T180000
DTEND;TZID=UTC:20190914T210000
DTSTAMP:20260424T010132
CREATED:20190504T093445Z
LAST-MODIFIED:20190820T005904Z
UID:4049-1568484000-1568494800@happyeatshealthy.com
SUMMARY:Roofdeck Garden to Table Dinner
DESCRIPTION:Finally\, an underground (pop-up) dinner that is totally healthy and stunningly delicious! Vegan? Vegetarian? Gluten Free? I’ve got you covered! Don’t write this off as tasteless or boring! Each course is an exploration of flavors and dishes that just happen to be healthy! \nIndulge your senses with a garden to table dinner in a beautiful urban rooftop setting. Enjoy eight courses of fresh\, seasonal cuisine while gazing on the lights of downtown Chicago – amid the beautiful garden where much of your meal was grown! \nDishes will change with the seasons\, but past favorites have included such delights as Homemade Crackers with Walnut Pate\, Balsamic Lentils over Grilled Squash\, Smoked Trout over Radish Chip\, Ginger Orange Soup with Basil Pistou\, Grilled Fig Salad with Apple Curry Dressing\, Moroccan Mushroom and Broccoli Meatballs over Quinoa with a lovely\, piquant Chimichurri. Desserts like Salted Pistachio Bark and Grilled Banana Bread Pudding will round out your meal. Bring a bottle of your favorite wine or other beverage to complement your meal. \nI am a Food Network featured chef and a Culinary Nutrition Expert. I create dishes that are stunning in flavor yet deceptively clean. Your taste buds will experience a decadent feast\, while your body gets a healthy treat! \nAll food allergies accommodated with proper notice. BYOB \nLocation: West Town\, Chicago\, IL; address will be shared upon registration. \nNote: class is held on the 4th floor of a walk up building with no elevator access. In case of inclement weather dinner will be served indoors in the dining room\, which also has a lovely view.
URL:https://happyeatshealthy.com/event/roofdeck-garden-to-table-dinner-4/
END:VEVENT
BEGIN:VEVENT
DTSTART;VALUE=DATE:20190918
DTEND;VALUE=DATE:20190919
DTSTAMP:20260424T010132
CREATED:20190428T073415Z
LAST-MODIFIED:20190428T074017Z
UID:4014-1568764800-1568851199@happyeatshealthy.com
SUMMARY:Private Cooking Class
DESCRIPTION:
URL:https://happyeatshealthy.com/event/private-cooking-class-4/
END:VEVENT
END:VCALENDAR