BEGIN:VCALENDAR
VERSION:2.0
PRODID:-//happy eats healthy - ECPv6.15.20//NONSGML v1.0//EN
CALSCALE:GREGORIAN
METHOD:PUBLISH
X-ORIGINAL-URL:https://happyeatshealthy.com
X-WR-CALDESC:Events for happy eats healthy
REFRESH-INTERVAL;VALUE=DURATION:PT1H
X-Robots-Tag:noindex
X-PUBLISHED-TTL:PT1H
BEGIN:VTIMEZONE
TZID:UTC
BEGIN:STANDARD
TZOFFSETFROM:+0000
TZOFFSETTO:+0000
TZNAME:UTC
DTSTART:20190101T000000
END:STANDARD
END:VTIMEZONE
BEGIN:VEVENT
DTSTART;TZID=UTC:20201202T090000
DTEND;TZID=UTC:20201202T130000
DTSTAMP:20260422T165052
CREATED:20201107T043558Z
LAST-MODIFIED:20201107T044121Z
UID:5794-1606899600-1606914000@happyeatshealthy.com
SUMMARY:Clinical Nutrition Course- 12 CEU's (virtual class)
DESCRIPTION:This course provides an overview of nutrition and healthy diet as it relates to self-care and how poor nutrition can impact a client’s \nOffered through Soma Institute. \nDecember 2nd – 4th. 9am – 1pm
URL:https://happyeatshealthy.com/event/clinical-nutrition-course-12-ceus-virtual-class/
END:VEVENT
BEGIN:VEVENT
DTSTART;TZID=UTC:20201203T090000
DTEND;TZID=UTC:20201203T130000
DTSTAMP:20260422T165052
CREATED:20201107T044031Z
LAST-MODIFIED:20201107T044031Z
UID:5800-1606986000-1607000400@happyeatshealthy.com
SUMMARY:Clinical Nutrition Course- 12 CEU's (virtual class)
DESCRIPTION:Clinical Nutrition Course- 12 CEU’s (virtual class) \nThis course provides an overview of nutrition and healthy diet as it relates to self-care and how poor nutrition can impact a client’s \nOffered through Soma Institute. \nDecember 2nd – 4th. 9am – 1pm \n 
URL:https://happyeatshealthy.com/event/clinical-nutrition-course-12-ceus-virtual-class-3/
END:VEVENT
BEGIN:VEVENT
DTSTART;TZID=UTC:20201204T090000
DTEND;TZID=UTC:20201204T130000
DTSTAMP:20260422T165052
CREATED:20201107T043909Z
LAST-MODIFIED:20201107T043909Z
UID:5797-1607072400-1607086800@happyeatshealthy.com
SUMMARY:Clinical Nutrition Course- 12 CEU's (virtual class)
DESCRIPTION:This course provides an overview of nutrition and healthy diet as it relates to self-care and how poor nutrition can impact a client’s \nOffered through Soma Institute. \nDecember 2nd – 4th. 9am – 1pm \n 
URL:https://happyeatshealthy.com/event/clinical-nutrition-course-12-ceus-virtual-class-2/
END:VEVENT
BEGIN:VEVENT
DTSTART;TZID=UTC:20201230T173000
DTEND;TZID=UTC:20201230T211000
DTSTAMP:20260422T165052
CREATED:20201207T050710Z
LAST-MODIFIED:20201207T064751Z
UID:5891-1609349400-1609362600@happyeatshealthy.com
SUMMARY:Health and Wellness Coaching Certification Course
DESCRIPTION:Want to help others on their health journey?  Become a Health and Wellness Coach!  Train with me. \nVirtual learning + earn CEU’s! \nThe course is 15 weeks\, every Monday & Wednesday night – 5:30 -9:10pm CST \nSee more and register at SOMA Institute. \nhttps://soma.edu/programs/health-and-wellness-coach/
URL:https://happyeatshealthy.com/event/health-and-wellness-coaching-certification-course/
END:VEVENT
END:VCALENDAR