BEGIN:VCALENDAR
VERSION:2.0
PRODID:-//happy eats healthy - ECPv6.15.20//NONSGML v1.0//EN
CALSCALE:GREGORIAN
METHOD:PUBLISH
X-WR-CALNAME:happy eats healthy
X-ORIGINAL-URL:https://happyeatshealthy.com
X-WR-CALDESC:Events for happy eats healthy
REFRESH-INTERVAL;VALUE=DURATION:PT1H
X-Robots-Tag:noindex
X-PUBLISHED-TTL:PT1H
BEGIN:VTIMEZONE
TZID:UTC
BEGIN:STANDARD
TZOFFSETFROM:+0000
TZOFFSETTO:+0000
TZNAME:UTC
DTSTART:20200101T000000
END:STANDARD
END:VTIMEZONE
BEGIN:VTIMEZONE
TZID:America/Chicago
BEGIN:DAYLIGHT
TZOFFSETFROM:-0600
TZOFFSETTO:-0500
TZNAME:CDT
DTSTART:20200308T080000
END:DAYLIGHT
BEGIN:STANDARD
TZOFFSETFROM:-0500
TZOFFSETTO:-0600
TZNAME:CST
DTSTART:20201101T070000
END:STANDARD
BEGIN:DAYLIGHT
TZOFFSETFROM:-0600
TZOFFSETTO:-0500
TZNAME:CDT
DTSTART:20210314T080000
END:DAYLIGHT
BEGIN:STANDARD
TZOFFSETFROM:-0500
TZOFFSETTO:-0600
TZNAME:CST
DTSTART:20211107T070000
END:STANDARD
BEGIN:DAYLIGHT
TZOFFSETFROM:-0600
TZOFFSETTO:-0500
TZNAME:CDT
DTSTART:20220313T080000
END:DAYLIGHT
BEGIN:STANDARD
TZOFFSETFROM:-0500
TZOFFSETTO:-0600
TZNAME:CST
DTSTART:20221106T070000
END:STANDARD
END:VTIMEZONE
BEGIN:VEVENT
DTSTART;VALUE=DATE:20210110
DTEND;VALUE=DATE:20210131
DTSTAMP:20260422T151321
CREATED:20201207T072018Z
LAST-MODIFIED:20210107T013445Z
UID:5894-1610236800-1612051199@happyeatshealthy.com
SUMMARY:The 21-day SELFISH Wellness Program
DESCRIPTION:The 21-day SELFISH Wellness Program\n\n‘Put your oxygen mask on first’\n‘You can’t fill from an empty cup’\nYou’ve likely heard these motivating phrases previously- did you act on them? If you did\, it meant you were being selfish. Congratulate yourself!\n.\nBeing SELFISH is a good thing!  It’s about the importance of being self intuitive\, self sufficient and self happy through self care lifestyle practices. Bottom line? It means you take care you first\, leaving you strong enough\, resilient enough and with enough energy  for all the rest.\n.\nBeing SELFISH isn’t just about treating yourself with dark chocolate\, locking the door to take a bubble bath or binge watching 12 hours of your favorite new show…. (note: we don’t condone doing these from time to time\, especially if that’s what brings you JOY!)\n.\nBut you also have a choice to create a life you DON’T NEED TO ESCAPE FROM.\n.\nEnter the SELFISH Wellness program.\nThis program is focused on discovering your inner power to help you find balance\, stop saying should’ve/would’ve/could’ve and to feel more than you’ve felt since … ??\n\nWe do this through nutrient-dense food\,  thought provoking exercises\, mouthwatering recipes\, solutions for dealing with those who aren’t on your path\, private facebook group with weekly interactive live kick off calls and check-ins\, recipe demos\, mini-meditations\, simple & soothing stretch workouts\, fun self-care challenges and more!\n.\nPlus\, one of the greatest benefits comes from the power of the community participating in the program alongside you.\n.\n\nSelf-care isn’t one size fits all. And healthy isn’t a size.\n. \nEach of us are working through our own challenges. We’re all different with where we are on our path. So there’s flexibility in this program to control how lightly or deeply you engage.  It’s stress free and we’ll be there every step of the way. \n\n.\nIt’s estimated that it takes a minimum of 21 days to form a new habit. Be SELFISH and prioritize yourself to commit to the SELFISH 21-day Wellness Program with us for a stronger immune system\, a more powerful digestive system\, cleaner skin\, deeper sleep\, eliminate cravings\, lower toxic load\, reduce weight and gain tools to manage your selfcare your way.\n.\nExciting special collaborations!\nTaking care of ourselves isn’t just about food. How we move and breath has an effect on how we feel\, how we sleep\, and even on our nervous system! I’m thrilled to announce these collaborations: \nMINI MEDITATIONS designed specifically for this program:\nNia Washington\, NIASHANI Wellness\,  joins us to lead the mini meditations. Nia wraps her heart and soul into her meditations while pulling from her experience as a music producer\, a massage therapist\, and health coach which result in tranquilizing and soulful moments of calm.\n\nSOOTHING STRETCH SESSIONS focused on the fascia and honoring your body through movement:\nStacey Stone\, Stone Bodyworks Fitness\, will lead a weekly sessions to help us find strength and resilience in our body.\n\n\nI’m Stacey Stone.  I am a Movement Specialist that wears many hats; personal trainer\, yoga instructor\, ELDOA instructor\, health coach\, and body wizard. I am a teacher of movement and of breath.  I believe that by honoring the way in which the body was designed to move and breath- and applying these principles to our daily lives\, we have the power to greatly improve the quality of our life. \nI specialize in helping people move better- even in the presence of aches\, pains\, and old injuries. I am truly passionate about sharing my knowledge of movement practices that promote mobility\, strength\, and ease of movement as we age. In doing so\, I hope to empower people to make movement a priority in their lives. \n\n\n.\nJanuary 10th – 30th\nWe kick off on Sunday\, January 10th and run through Saturday the 30th.\n\nDo this from anywhere! Fully virtual!\n.\nAfter registering through Eventbrite\, you’ll receive an email with further details including pertinent dates to mark on your calendar.\n.\nWhat’s all included?\n\na guidebook with thought-provoking exercises\na recipe book full of easy mouthwatering recipes\nshopping lists\nsolutions for eating out \nideas for dealing with those who aren’t ‘eating your food’\na separate kick off call\nweekly interactive live check-ins\nlive recipe demos\nmini-meditations with Nia Washington\nsimple & soothing stretch workouts\nfun self-care challenges \ndaily support\ntools you can use for a lifetime\na private Facebook group\n\nHave you been putting off your dreams? Suppressing them? Unsure how to reach them? This program is focused on discovering your power as you find balance and confidence\, feel more alive\, pain-free\, happier and with boundless energy.\n\nWe are so excited to have you join us!
URL:https://happyeatshealthy.com/event/the-selfish-21-day-wellness-program/
ATTACH;FMTTYPE=image/jpeg:https://happyeatshealthy.com/wp-content/uploads/2020/12/selfish-wellness-cover-logo.jpg
END:VEVENT
BEGIN:VEVENT
DTSTART;TZID=UTC:20210114T180000
DTEND;TZID=UTC:20210114T203000
DTSTAMP:20260422T151321
CREATED:20201207T045649Z
LAST-MODIFIED:20210113T001009Z
UID:5889-1610647200-1610656200@happyeatshealthy.com
SUMMARY:Understanding the Microbiome: A Virtual Class
DESCRIPTION:Understanding the Microbiome: a virtual class\nAcne\, allergies\, autoimmune diseases\, anxiety\, bowel disease\, migraines\, excessive weight … all these are have one thing in common- an unhealthy microbiome. \nDigestive health is intricately connected to virtually every aspect of your health. Have you heard of the gut-brain connection? \n “Gut-Brain-Skin Axis” theory is a connection that is understood to be a two-way street: emotional states can alter your normal intestinal microflora\, which can increase intestinal permeability (leaky gut) and contribute to systemic inflammation. And vice versa—your microflora can influence your emotional states because these vitally important “good” bacteria produce neurotransmitters\, or chemical messengers that play a role in mood and cognitive function. \nDid you know your microbiome controls how many calories you absorb from the food you eat? It also impacts food cravings. Anxiety and depression. And the release of hormones. \nIn this class\, you will learn \n\nWhat is the microbiome?\nWhat does it do?\nConsequences of an unhealthy microbiome?\nEnvironmental factors that hurt the microbiome\nWhat helps the microbiome?\n\nWe’ll even connect weakened immune systems with c-section delivery\, formula-fed babies\, antibiotic use and birth control pills. And relieve for low stomach acid and leaky gut\, \nThis class has a slight focus for Wellness Coaches\, but it’s great for anyone looking to take their health to the next level. Receive a class workbook and handouts you can use to help uncover digestive challenges. \nClass details: \nClass will be held on Thursday\, January 14th\, 6 – 8:30pm CT \nClass workbook will be sent out prior to the start of class. \nThis interactive class is accessible to anyone via zoom. \nSpace limited! Register and save your spot today\, register through Paypal!  \ncontact Monique@happyeatshealthy.com with questions or additional payment options.
URL:https://happyeatshealthy.com/event/understanding-the-microbiome-a-virtual-class/
END:VEVENT
BEGIN:VEVENT
DTSTART;TZID=America/Chicago:20210119T173000
DTEND;TZID=America/Chicago:20210119T193000
DTSTAMP:20260422T151321
CREATED:20210108T020917Z
LAST-MODIFIED:20210108T063351Z
UID:6022-1611077400-1611084600@happyeatshealthy.com
SUMMARY:Virtual Yoga + Taco Tuesday
DESCRIPTION:5:30 pm CT:\nYoga & Tacos\, in the privacy of your own home! \nWe will begin with a one hour gentle yoga practice guided by Jennifer. A practice to release any stress from the day physically or mentally and drop into a place of peace and calm within. We will do physical movements & stretching to open the body\, cultivate a breath practice to draw the mind present\, and gently stimulate the digestive system to prepare for our meal. All levels welcome! \nAfter yoga we nourish! \nWellness chef Monique will join you in the kitchen as we make dinner together. You’ll receive the recipe & shopping list (with substitution options) ahead of time for a quick & simple dish that’s great for the body. We will have tacos of course! Monique always dishes insider kitchen tips that will help you get the most out of your meals. You don’t have to be a professional chef to make healthy food a reality in your own kitchen.
URL:https://happyeatshealthy.com/event/virtual-yoga-taco-tuesday/
ATTACH;FMTTYPE=image/jpeg:https://happyeatshealthy.com/wp-content/uploads/2021/01/taco-tuesday-yoga-1.jpg
END:VEVENT
BEGIN:VEVENT
DTSTART;TZID=UTC:20210128T180000
DTEND;TZID=UTC:20210128T200000
DTSTAMP:20260422T151321
CREATED:20200909T213440Z
LAST-MODIFIED:20201216T050328Z
UID:5659-1611856800-1611864000@happyeatshealthy.com
SUMMARY:Finding Your Path to Happiness
DESCRIPTION:********SAVE $50\, REGISTER BEFORE DECMEBER 31ST********\nTaking Control of Your Body and Your Space\nThe pursuit of happiness is a personal journey different for every individual. No matter our path\, one of the biggest challenges to achieving and maintaining happiness is the stress and anxiety we experience in our lives. Controlling the many factors that drive stress can be a huge effort in itself\, but by focusing on what’s best for your body\, and what’s best for your space — whether at home or work — you can learn to thrive everyday!\n\n \nMany think it will take a profound effort or event to find happiness\, but happiness needs to be built and it takes small\, gradual steps to elevate your own mood. In this workshop\, participants will discover the key to unlocking the happiness potential within. You’ll walk away armed with tools that you can implement and lean on for the rest of your life.\n\n \nJoin Monique Costello\, Health Educator\, Functional Medicine Coach and Wellness Chef\, and Bill Schwingel\,  Master Teacher of Feng Shui\, for a unique workshop focused on how what we take into our bodies and place in our spaces affect the stress and anxiety we feel day to day. They will share their more than 40 years of combined corporate and wellness experience to create a healing environment so you can take control of the stressors in your life and design your own happiness with practical and proven tools and techniques.\n\nYou’ll receive our special workshop workbook which will lead you long after our time together.\n.\nWorkshop delivered via Zoom- join from anywhere!!\nCost: $300 –SAVE $50\, REGISTER BEFORE DECEMBER 31st.\nRegister  today and get on your path to happiness!\n~payment is through Paypal~ \nSAVE $50\, REGISTER BEFORE DECEMBER 31st. 
URL:https://happyeatshealthy.com/event/finding-your-path-to-happiness/
ATTACH;FMTTYPE=image/jpeg:https://happyeatshealthy.com/wp-content/uploads/2020/09/Path-to-Happiness-1.jpg
END:VEVENT
END:VCALENDAR