BEGIN:VCALENDAR
VERSION:2.0
PRODID:-//happy eats healthy - ECPv6.15.20//NONSGML v1.0//EN
CALSCALE:GREGORIAN
METHOD:PUBLISH
X-WR-CALNAME:happy eats healthy
X-ORIGINAL-URL:https://happyeatshealthy.com
X-WR-CALDESC:Events for happy eats healthy
REFRESH-INTERVAL;VALUE=DURATION:PT1H
X-Robots-Tag:noindex
X-PUBLISHED-TTL:PT1H
BEGIN:VTIMEZONE
TZID:UTC
BEGIN:STANDARD
TZOFFSETFROM:+0000
TZOFFSETTO:+0000
TZNAME:UTC
DTSTART:20200101T000000
END:STANDARD
END:VTIMEZONE
BEGIN:VEVENT
DTSTART;VALUE=DATE:20210422
DTEND;VALUE=DATE:20210426
DTSTAMP:20260422T084712
CREATED:20210208T211530Z
LAST-MODIFIED:20210323T210153Z
UID:6107-1619049600-1619395199@happyeatshealthy.com
SUMMARY:Spring Rejuvenation Retreat  near Zion National Park!
DESCRIPTION:~1 private queen bedroom and 1 shared bunk space left!~\nSpring Rejuvenation Retreat near Zion National Park!  Thursday\, April 22- Sunday\, April 25 \nGet away for a relaxing\, self care weekend of yoga\, nature\, nourishing food and ample relaxation time with a stunning backdrop of Snow Canyon State Park! \nhttps://happyeatshealthy.com/wp-content/uploads/2021/02/Utah-Yoga-Nutrition-Retreat.mp4\n\nThis simple 4 day\, 3 night retreat to rejuvenate the mind\, body and soul with daily morning yoga and calming evening meditation. Enjoy daily meals prepared by a Wellness Chef (all food preferences/allergies accepted- please inform ahead of time.) All set in a beautiful house setting with room to roam & outdoor space to social distance.\n\nMiles and miles of hiking trails and stunning scenery.\nExplore Snow Canyon State Park\, practice yoga\, watch the sunrise/sunset or read a book. Go on hikes. Unwind. Join in on the cooking or just enjoy delicious meals. All king beds – perfect for singles\, couples or friends. Soak in our private hot tub. Tune into your intuition with a Goddess card reading while sipping a warm evening elixir by the outdoor firepit. \n\nSample Itinerary:\nThursday\n4pm check in- dinner- welcome circle\n\nFriday & Saturday\n8-9:15am yoga \n9:30 breakfast- free time / hike\n\n\n2pm lunch snack- free time\n4:30pm gentle yoga / sunset meditation \n\n6pm dinner\, evening elixir and goddess cards by the fire. \nSunday\n7:00-8:1 5am sunrise yoga \n\n9:00am breakfast\n11 am check out\n\n\n\nPerfect for a solo travelers\, couples and friends!\n\n\n\n\n~Book direct to St. George (SGU) via Denver\, or fly to Las Vegas and hop a spectacularly scenic 2 hour shuttle to – St George\, Utah. \n\n\nWhat’s included: \n\nLodging\nCore activating yoga (accessible for everyone)\nMeditation\nGourmet meals at the house\nSnacks\nHerbal teas/coffee\nEasy hiking\nRelaxing in the sun\nNapping\nHot tub\nFire pit\nShared pool\nGoddess card readings\n\n\nAvailable rooms:\n\n\n\n\n\n\nRemaining Available rooms:\nOne Queen room w/ private bath across the hall\nSingle: $1\,100\nShared by 2: $ 1650\n\n\n\n\nTwo (2) bunk beds in a shared room with a private bath\n\nSingle: $750 pp\n\n\n\n\n\nApril 22-25th\n\nYour retreat leaders: Check out Jennifer at www.tinydanceryogi.com/ \nCheck out Monique at www.happyeatshealthy.com/
URL:https://happyeatshealthy.com/event/spring-rejuvenation-retreat-near-zion-national-park/
ATTACH;FMTTYPE=image/jpeg:https://happyeatshealthy.com/wp-content/uploads/2021/02/utah-retreat.jpg
END:VEVENT
BEGIN:VEVENT
DTSTART;TZID=UTC:20210426T173000
DTEND;TZID=UTC:20210426T210000
DTSTAMP:20260422T084712
CREATED:20210413T214420Z
LAST-MODIFIED:20210413T214733Z
UID:6304-1619458200-1619470800@happyeatshealthy.com
SUMMARY:Health and Wellness Coach - 15 week Certification Program
DESCRIPTION:Next program starts on April 26th!! \nEvery Monday and Wednesday evenings on Zoom. \nJoin me in this Health and Wellness Coaching Certificate Program through Soma Institute. It’s conducted fully online and can be taken by students anywhere in the world. \n\n\nToday\, more than ever\, health and wellness coaches are in demand. The industry is projected to grow to $7.85 billion by 2022. \n\n\nAt The Soma Institute\, our mission is to improve overall health\, wellness and happiness one health coach at a time. \n\n\nApply Now
URL:https://happyeatshealthy.com/event/health-and-wellness-coach-15-week-certification-program/
END:VEVENT
END:VCALENDAR