BEGIN:VCALENDAR
VERSION:2.0
PRODID:-//happy eats healthy - ECPv6.15.20//NONSGML v1.0//EN
CALSCALE:GREGORIAN
METHOD:PUBLISH
X-WR-CALNAME:happy eats healthy
X-ORIGINAL-URL:https://happyeatshealthy.com
X-WR-CALDESC:Events for happy eats healthy
REFRESH-INTERVAL;VALUE=DURATION:PT1H
X-Robots-Tag:noindex
X-PUBLISHED-TTL:PT1H
BEGIN:VTIMEZONE
TZID:UTC
BEGIN:STANDARD
TZOFFSETFROM:+0000
TZOFFSETTO:+0000
TZNAME:UTC
DTSTART:20180101T000000
END:STANDARD
END:VTIMEZONE
BEGIN:VEVENT
DTSTART;TZID=UTC:20190614T183000
DTEND;TZID=UTC:20190614T213000
DTSTAMP:20260423T082525
CREATED:20190504T090602Z
LAST-MODIFIED:20190504T090602Z
UID:4039-1560537000-1560547800@happyeatshealthy.com
SUMMARY:Garden to Table Rooftop Dinner
DESCRIPTION:Finally\, an underground (pop-up) dinner that is totally healthy and stunningly delicious! Vegan? Vegetarian? Gluten Free?  I’ve got you covered! \n  \nIndulge your senses with a garden to table dinner in a beautiful urban rooftop setting. Enjoy eight courses of fresh\, seasonal cuisine while gazing on the lights of downtown Chicago – amid the beautiful garden where much of your meal was grown! \nDishes will change with the seasons\, but past favorites have included such delights as Balsamic Lentils over Grilled Squash\, Smoked Trout over crisp radish\, Ginger Orange Soup with Basil Pistou\, Grilled Fig Salad with Apple Curry Dressing\, and Moroccan Mushroom and Broccoli Meatballs over Quinoa with a lovely\, piquant Chimichurri. Desserts like Salted Pistachio Bark and Grilled Banana Bread Pudding will round out your meal. Bring a bottle of your favorite wine or other beverage to complement your meal. \nI am a Food Network featured chef and a Culinary Nutrition Expert. I create dishes that are stunning in flavor yet deceptively clean. Your taste buds will experience a decadent feast\, while your body gets a healthy treat! \nAll food allergies accommodated with proper notice. \nBYOB \nLocation: West Town\, Chicago\, IL; address will be shared upon registration. \nPlease note: class is held on the 4th floor of a walk up building with no elevator access. In case of inclement weather dinner will be served indoors in the dining room\, which also has a lovely view. 
URL:https://happyeatshealthy.com/event/garden-to-table-rooftop-dinner/
LOCATION:Noble Square\, Chicago\, IL\, Chicago\, IL\, US
ATTACH;FMTTYPE=image/jpeg:https://happyeatshealthy.com/wp-content/uploads/2019/05/IMG_0826.jpg
END:VEVENT
END:VCALENDAR