BEGIN:VCALENDAR
VERSION:2.0
PRODID:-//happy eats healthy - ECPv6.15.20//NONSGML v1.0//EN
CALSCALE:GREGORIAN
METHOD:PUBLISH
X-ORIGINAL-URL:https://happyeatshealthy.com
X-WR-CALDESC:Events for happy eats healthy
REFRESH-INTERVAL;VALUE=DURATION:PT1H
X-Robots-Tag:noindex
X-PUBLISHED-TTL:PT1H
BEGIN:VTIMEZONE
TZID:UTC
BEGIN:STANDARD
TZOFFSETFROM:+0000
TZOFFSETTO:+0000
TZNAME:UTC
DTSTART:20180101T000000
END:STANDARD
END:VTIMEZONE
BEGIN:VEVENT
DTSTART;TZID=UTC:20191202T180000
DTEND;TZID=UTC:20191202T203000
DTSTAMP:20260423T021528
CREATED:20191127T042217Z
LAST-MODIFIED:20191127T042427Z
UID:4736-1575309600-1575318600@happyeatshealthy.com
SUMMARY:Crackers and Pate Class (Gluten Free & Vegan)
DESCRIPTION:Crackers and Pate Class (Gluten Free & Vegan)\nMonday\, December 2nd @ 6pm; West Town\n\nLearn how to make homemade\, gluten free crackers that cost less and taste better than store bought in this hands on healthy cooking class in Chicago.\n\nEver wanted to make your own crackers? Ones that are delicious and gluten free? This class is for you! I’ll show how to make 2 different gluten free homemade crackers! Plus you’ll have a base to create hundreds of different ones from it. \nWe’ll also blend up my famous Walnut Pate- the  perfect appetizer to any holiday party. \nRecipes we’ll create: \n\nCarrot Crackers\nLentil Crackers\nWalnut & Sunflower Seed Pate\nCardamom and Lemongrass Crumble over Berries with Coconut Whipped Cream\nA simple roasted soup will be available to enjoy with the crackers.\n\nRun time: estimating 3  hours; feel free to bring a bottle of wine or bubbles to enjoy. \nLimited to 6 people! Reserve your spot via PayPal: https://www.paypal.me/MoniqueCostello/75.00 \nAddress will be sent upon confirmation of funds received.
URL:https://happyeatshealthy.com/event/crackers-and-pate-class-gluten-free-vegan/
END:VEVENT
END:VCALENDAR