BEGIN:VCALENDAR
VERSION:2.0
PRODID:-//happy eats healthy - ECPv6.15.20//NONSGML v1.0//EN
CALSCALE:GREGORIAN
METHOD:PUBLISH
X-ORIGINAL-URL:https://happyeatshealthy.com
X-WR-CALDESC:Events for happy eats healthy
REFRESH-INTERVAL;VALUE=DURATION:PT1H
X-Robots-Tag:noindex
X-PUBLISHED-TTL:PT1H
BEGIN:VTIMEZONE
TZID:UTC
BEGIN:STANDARD
TZOFFSETFROM:+0000
TZOFFSETTO:+0000
TZNAME:UTC
DTSTART:20170101T000000
END:STANDARD
END:VTIMEZONE
BEGIN:VEVENT
DTSTART;TZID=UTC:20181103T110000
DTEND;TZID=UTC:20181103T123000
DTSTAMP:20260422T111732
CREATED:20180905T202020Z
LAST-MODIFIED:20181017T050415Z
UID:3191-1541242800-1541248200@happyeatshealthy.com
SUMMARY:Hormones! Understanding them and what you can do about them.
DESCRIPTION:It’s estimated that 25-50% of adults have hormone imbalances! And that isn’t limited to just women either. \nThe body is complex but wants/needs to be in balance and our hormones play a role in nearly every body function. \nThis class will identify imbalances and give you strategies to to bring them back to balance. \nRegister via Moksha Yoga today! \nUnderstanding Them and What You Can Do About Them\nSaturday Nov 3\n11am-12:30pm \n\nregular: $20\n\n\nmember: $16
URL:https://happyeatshealthy.com/event/hormones-understanding-them-and-what-you-can-do-about-them/
LOCATION:Moksha Yoga\, 2528 W Armitage\, Chicago\, 60647\, United States
END:VEVENT
END:VCALENDAR