BEGIN:VCALENDAR
VERSION:2.0
PRODID:-//happy eats healthy - ECPv6.15.20//NONSGML v1.0//EN
CALSCALE:GREGORIAN
METHOD:PUBLISH
X-ORIGINAL-URL:https://happyeatshealthy.com
X-WR-CALDESC:Events for happy eats healthy
REFRESH-INTERVAL;VALUE=DURATION:PT1H
X-Robots-Tag:noindex
X-PUBLISHED-TTL:PT1H
BEGIN:VTIMEZONE
TZID:UTC
BEGIN:STANDARD
TZOFFSETFROM:+0000
TZOFFSETTO:+0000
TZNAME:UTC
DTSTART:20190101T000000
END:STANDARD
END:VTIMEZONE
BEGIN:VEVENT
DTSTART;TZID=UTC:20200316T110000
DTEND;TZID=UTC:20200316T120000
DTSTAMP:20260423T185659
CREATED:20200225T014134Z
LAST-MODIFIED:20200225T014722Z
UID:4886-1584356400-1584360000@happyeatshealthy.com
SUMMARY:Inspired Home Show: Cooking Theater
DESCRIPTION:Monique will be on stage at the Cooking Theater roasting a plant-forward taco\, a sweet potato cheese sauce and a popped sorghum guacamole! \nFemale Demo Chef
URL:https://happyeatshealthy.com/event/inspired-home-show-cooking-theater/
END:VEVENT
END:VCALENDAR