BEGIN:VCALENDAR
VERSION:2.0
PRODID:-//happy eats healthy - ECPv6.15.20//NONSGML v1.0//EN
CALSCALE:GREGORIAN
METHOD:PUBLISH
X-ORIGINAL-URL:https://happyeatshealthy.com
X-WR-CALDESC:Events for happy eats healthy
REFRESH-INTERVAL;VALUE=DURATION:PT1H
X-Robots-Tag:noindex
X-PUBLISHED-TTL:PT1H
BEGIN:VTIMEZONE
TZID:UTC
BEGIN:STANDARD
TZOFFSETFROM:+0000
TZOFFSETTO:+0000
TZNAME:UTC
DTSTART:20200101T000000
END:STANDARD
END:VTIMEZONE
BEGIN:VEVENT
DTSTART;TZID=UTC:20211114T000000
DTEND;TZID=UTC:20211118T235900
DTSTAMP:20260422T170309
CREATED:20200225T015426Z
LAST-MODIFIED:20210310T082955Z
UID:4891-1636848000-1637279940@happyeatshealthy.com
SUMMARY:Sedona Yoga\, Nutrition and Nature Retreat
DESCRIPTION:*This retreat consistently sells out every year- don’t wait to save your private room!** \nSedona Yoga\, Nutrition and Nature Retreat \nJoin Jennifer Goodman and Monique Costello on a transformational retreat in Sedona\, Arizona. \nExperience the magic and beauty that Sedona’s Red Rocks and Vortexes bring on this 6 day retreat filled with a variety of yoga practices including sunset meditations within a vortex\, healthy food\, hiking and time in nature\, nutritional coaching and cooking classes\, and time for you to relax and rejuvenate your mind body and soul. \n*Sample Itinerary: \nSunday\n6pm check in- dinner- welcome circle- sound healing +reiki \nMonday -Wednesday\n8-9:15am yoga- 9:30 breakfast- free time/ hike- 2pm lunch- free time\n5:30pm gentle yoga/sunset meditation- 7pm dinner- quiet time \nThursday\n7:30-8:45am yoga- 9:00 breakfast- 11am check out \n*Free Time will include optional hiking in the Red Rocks\, shopping in town\, bathing in the creek\, cooking demos\, jacuzzi\, swimming pool\, evening bonfires \n*30 minute Reiki sessions offered by Monique for $50 a session \n*Additional massage therapist onsite \nView the retreat space Moondance Sedona at https://www.gccalliance.properties/vacation-rental-home.asp?PageDataID=132705 \n*Prices start at $1900 \n**Private Cottages available upon request that are a 1 minute walk way.\n$500 nonrefundable deposit to reserve your spot. \n*Optional group shuttle provided to/from Phoenix Airport to retreat center. \nCheck out Jennifer at www.tinydanceryogi.com/ \nCheck out Monique at www.happyeatshealthy.com/ \n**Email jennifergoodman1111@gmail.com  for room\, pricing\, and payment options. \n\n\n \n\n\n\n \n\n\n\n**Private Cottages available upon request that are just a 2 minute walk way.
URL:https://happyeatshealthy.com/event/sedona-yoga-nutrition-and-nature-retreat/
ATTACH;FMTTYPE=image/jpeg:https://happyeatshealthy.com/wp-content/uploads/2020/02/sedona-nutrition-yoga-retreat.jpg
END:VEVENT
END:VCALENDAR