BEGIN:VCALENDAR
VERSION:2.0
PRODID:-//happy eats healthy - ECPv6.15.20//NONSGML v1.0//EN
CALSCALE:GREGORIAN
METHOD:PUBLISH
X-WR-CALNAME:happy eats healthy
X-ORIGINAL-URL:https://happyeatshealthy.com
X-WR-CALDESC:Events for happy eats healthy
REFRESH-INTERVAL;VALUE=DURATION:PT1H
X-Robots-Tag:noindex
X-PUBLISHED-TTL:PT1H
BEGIN:VTIMEZONE
TZID:UTC
BEGIN:STANDARD
TZOFFSETFROM:+0000
TZOFFSETTO:+0000
TZNAME:UTC
DTSTART:20180101T000000
END:STANDARD
END:VTIMEZONE
BEGIN:VEVENT
DTSTART;TZID=UTC:20191006T120000
DTEND;TZID=UTC:20191006T143000
DTSTAMP:20260424T013127
CREATED:20190911T012634Z
LAST-MODIFIED:20190911T013015Z
UID:4439-1570363200-1570372200@happyeatshealthy.com
SUMMARY:Yogatober: Yoga + Lunch on the Roof!
DESCRIPTION:Kick start October with Sunday Funday on the garden rooftop for 60 minutes of Autumn-welcoming yoga led by Stefanie Connelly of Amore Yoga followed by a deliciously healthy lunch by Culinary Nutrition Chef Monique Costello\, founder of Happy Eats Healthy. \nAfter yoga you can throw a game of bags\, mingle with others\, take in the panoramic view of the city or simply enjoy your BYOB bubbly in the shaded lounge. If it’s warm\, we’ll cool off with a slushy\, if it’s chilly we’ll warm up with a hot ginger tea. \nHappy Eats Healthy events are deliciously based on whole\, clean food with a focus on anti-inflammatory ingredients. Do let us know if you have a food allergy to accommodate for! \nNote: class is held on the 5th floor of a walk up building with no elevator access. \nLocation: West Town\, Chicago\, IL (address will be shared upon registration) \nBYO: mat\, sunscreen and bubbles \nRegistration through Eventbrite will secure your spot. Address will be shared upon registration. \nhttps://www.eventbrite.com/e/yogatober-lunch-tickets-71450535475
URL:https://happyeatshealthy.com/event/yogatober-yoga-lunch-on-the-roof/
END:VEVENT
END:VCALENDAR