BEGIN:VCALENDAR
VERSION:2.0
PRODID:-//happy eats healthy - ECPv6.15.20//NONSGML v1.0//EN
CALSCALE:GREGORIAN
METHOD:PUBLISH
X-WR-CALNAME:happy eats healthy
X-ORIGINAL-URL:https://happyeatshealthy.com
X-WR-CALDESC:Events for happy eats healthy
REFRESH-INTERVAL;VALUE=DURATION:PT1H
X-Robots-Tag:noindex
X-PUBLISHED-TTL:PT1H
BEGIN:VTIMEZONE
TZID:UTC
BEGIN:STANDARD
TZOFFSETFROM:+0000
TZOFFSETTO:+0000
TZNAME:UTC
DTSTART:20170101T000000
END:STANDARD
END:VTIMEZONE
BEGIN:VEVENT
DTSTART;TZID=UTC:20181104T000000
DTEND;TZID=UTC:20181117T233000
DTSTAMP:20260425T071014
CREATED:20180905T195718Z
LAST-MODIFIED:20180905T214321Z
UID:3186-1541289600-1542497400@happyeatshealthy.com
SUMMARY:The 14-day Holiday Eating Pre-Set!
DESCRIPTION:Shift your eating and self care practice to create a healthy lifestyle BEFORE the Holidays this year.\nYour Holiday Pre-set is here and it’s only 14 days!\nDo you dread the holidays because of how they make you feel? Do you assume your going to burn the candle at both ends? Run ragged? Overindulge? Come out the other side feeling crappy\, lethargic and heavy? \nWhat if you could reinvigorate your health\, your taste buds and gain a new sense of body awareness all in 2 weeks? NO starving\, crash dieting\, pill popping and promises of the moon. \nDon’t dread the holidays this year\, go into it feeling your best and experience the difference that makes in everything you do! \nGive yourself 14 days to: \n\nFeel increased energy\nSleep through the night\nImprove your memory and thinking\nLose weight\nSee your skin glow\nEnjoy a happier mood\nReduce inflammation and pain\nEase digestive issues\nReduce cravings\nBegin to heal from the inside\nCommit to a daily movement\nLearn new self-care activities and techniques that can deepen your experience\n\nSign up now! \nYour body does have built-in detox and removal systems\, but we tend to overload those symptoms through the standard American Diet\, especially through the holiday’s with stress\, lack of sleep\, polluted environments and toxin in our everyday products. \nDo any of these sound like you: \n\nSluggish?\nTired\, even though you are sleeping?\nOr feeling like you can’t sleep?\nDo you have have brain fog or fuzzy thinking?\nIrritable?\nBloated or having digestive challenges?\nIs your skin dry\, greasy or breaking out?\nCravings are out of control?\nBad breath?\nLost your motivation?\n\nNot only will you learn delicious recipes and simple steps that has helped hundreds of people lose pounds and take control of their health\, you will experience self care tools that you can use the rest of your life! \nAre you being held back from living your fullest life because you just don’t have the energy or just don’t feel well? \nRegister to get the free 7 day pre-recommendations! \nWhat if you could increase your energy\, lose weight and decrease the bloat in just 14-days?\nWhat would sleeping better do for you?\nHow much easier would the day be if your digestion worked better? \nOr if you ended your sugar cravings? \nOr if you didn’t have to fight to get in your clothes in the morning? \nImagine having more energy and balanced hormones. \nEven find your kitchen and make delicous\, healthy meals and snacks! \nStart laying YOUR new foundation of wellness with this 2 week cleanse.\nHOW DOES IT WORK? \n1. We’ll meet on Thursday\, November 1st to kick the whole thing off (in person or you can tune in live via Facebook.) You’ll learn all about the 14-day pre-set program\, why to do this and what sets this program apart. We’ll walk through your guidebook together and answer questions. \n2. You’ll discover foods that heal and understand foods that might not be right for you. \n3. Learn about self care tools that will benefit you long after the cleanse is over. \n4. Officially we start on Sunday\, November 4th\, so you have time to shop for ingredients and do a little food prep after the kick off event. \n5. Bonus conference calls; one mid-way through the cleanse to keep you supported and one at the end to help you reintegrate foods that we took out. This is a great opportunity for self-discovery of hidden food intolerances. \nJUMPSTART your health with our 14-day challenge! Look better\, feel better and have more energy! \nWhat’s included: \n\nLive kick off event: 2.5 hours long\n\n30 minute discussion on understanding your labs\n30 minutes review on the 14 day protocol\nDelicious food samples\nMini workout and deals from Ascend Wellness\n*discussions will be recorded in case you cannot be present or are joining us online\n\n\n38 page pre-set guidebook\nRecipes\, prep and storage tips\nShopping lists\nRecommended supplement guidelines\nRecommended blood labs and review so you can chart before and after progress\nPrivate moderated facebook page\n1 live Facebook call to check in on progress\n1 live Facebook call to discuss reintegration strategies\nBonus Pre-cleanse suggestions\nPost cleanse labs review (live on Facebook)\n*all calls recorded via Facebook for playback\n\nWhen is the last time you took time for you?\nSign up today! \nMake the decision to join us today\, spots are limited!! \n\n\n\nFAQs \nHow will I feel?\nAdmittedly\, the first 3 days could be challenging\, maybe more depending on the toxicity in your body. Whatever aches\, burps\, rumbles and grumbles you experience in the first three days\, be patient with them; they will pass. This is a fantastic opportunityto learn a little body intuition (understand the signals it’s sending you!) The body is an amazing work of art\, once we start to feed it real\, whole food it begins to heal. \nRemember\, you won’t be going through this alone! \nWill I be hungry? \nYou don’t have to be hungry on a cleanse. This is not a juice cleanse\, you will eat real food! \nCan I / do I have to eat meat or fish? \nWe’ll help you customize the detox to your needs\, so you can stay within your own preferred eating plans. \nCan I do this from anywhere? \nAbsolutely! The guidebook will be downloadable and the conference calls will be recorded for you can play back at your leisure.
URL:https://happyeatshealthy.com/event/the-14-day-holiday-eating-pre-set/
END:VEVENT
END:VCALENDAR